BEGIN:VCALENDAR
VERSION:2.0
PRODID:icalendar-ruby
CALSCALE:GREGORIAN
METHOD:PUBLISH
BEGIN:VEVENT
DTSTAMP:20260422T224253Z
UID:6-366164@chapelhillcp.com
DTSTART:20260813T010000Z
DTEND:20260813T020000Z
CLASS:PUBLIC
CREATED:20260422T141845
DESCRIPTION:Join us for our weekly Wednesday Night Bible Study! At 6:00pm\,
  we are reading through the Bible. Do not let your fears prevent you form 
 joining us! We will not call on you\, pressure you\, etc. we simply gather
 \, read\, grow and fellowship. For more information\, contact DJ! 
LAST-MODIFIED:20260422T141845
LOCATION:
SUMMARY:Wednesday Night Bible Study
URL;VALUE=URI:https://www.chapelhillcp.com/events/wednesday-night-bible-stu
 dy/2026-08-12
ATTACH;FILENAME=Coffee-Break.jpg;FMTTYPE=image/jpeg:https://dq5pwpg1q8ru0.c
 loudfront.net/2025/03/13/14/17/43/775f3e36-5147-4aa5-8003-25602d43abaa/Cof
 fee-Break.jpg
END:VEVENT
END:VCALENDAR
