BEGIN:VCALENDAR
VERSION:2.0
PRODID:icalendar-ruby
CALSCALE:GREGORIAN
METHOD:PUBLISH
BEGIN:VEVENT
DTSTAMP:20260423T230859Z
UID:8-368084@chapelhillcp.com
DTSTART:20260909T170000Z
DTEND:20260909T183000Z
CLASS:PUBLIC
CREATED:20260423T141849
DESCRIPTION:Retired and looking for community? Look no further! Join us eve
 ry Wednesday morning at 10:00am for food and fellowship! 
LAST-MODIFIED:20260423T141849
LOCATION:
SUMMARY:Senior's Morning Out
URL;VALUE=URI:https://www.chapelhillcp.com/events/seniors-morning-out/2026-
 09-09
ATTACH;FILENAME=Coffee-Break-3.jpg;FMTTYPE=image/jpeg:https://dq5pwpg1q8ru0
 .cloudfront.net/2025/03/13/14/45/08/6238c021-eda2-4bf9-89ce-638a65959f75/C
 offee-Break-3.jpg
END:VEVENT
END:VCALENDAR
